BEGIN:VCALENDAR
METHOD:PUBLISH
PRODID:-//Sin City FC NN Calendar//Sin City FC NN 2026//EN
VERSION:2.0
CALSCALE:GREGORIAN
X-WR-CALNAME:Sin City FC NN 2026
X-WR-TIMEZONE:America/Miami
X-WR-CALDESC:Sin City FC NN 2026 Schedule
BEGIN:VTIMEZONE
TZID:America/New_York
X-LIC-LOCATION:America/New_York
BEGIN:DAYLIGHT
TZOFFSETFROM:-0500
TZOFFSETTO:-0400
TZNAME:EDT
DTSTART:19700308T020000
RRULE:FREQ=YEARLY;BYMONTH=3;BYDAY=2SU
END:DAYLIGHT
BEGIN:STANDARD
TZOFFSETFROM:-0400
TZOFFSETTO:-0500
TZNAME:EST
DTSTART:19701101T020000
RRULE:FREQ=YEARLY;BYMONTH=11;BYDAY=1SU
END:STANDARD
END:VTIMEZONE
BEGIN:VEVENT
DTSTART;TZID=America/New_York:20260321T190000
DTEND;TZID=America/New_York:20260321T210000
LOCATION:Mater Academy East High School Stadium
TRANSP:OPAQUE
SEQUENCE:0
UID:60401776658505
DTSTAMP:20260420T041505Z
DESCRIPTION:Sin City FC NN vs Problems FC
SUMMARY:Sin City FC NN vs Problems FC
PRIORITY:5
STATUS:CONFIRMED
CREATED:20260420T041505Z
CLASS:PUBLIC
END:VEVENT
BEGIN:VEVENT
DTSTART;TZID=America/New_York:20260328T170000
DTEND;TZID=America/New_York:20260328T190000
LOCATION:St. Anthony High School Stadium
TRANSP:OPAQUE
SEQUENCE:0
UID:60421776658505
DTSTAMP:20260420T041505Z
DESCRIPTION:LA Force vs Sin City FC NN
SUMMARY:LA Force vs Sin City FC NN
PRIORITY:5
STATUS:CONFIRMED
CREATED:20260420T041505Z
CLASS:PUBLIC
END:VEVENT
BEGIN:VEVENT
DTSTART;TZID=America/New_York:20260329T160000
DTEND;TZID=America/New_York:20260329T180000
LOCATION:Arroyo Valley High School Stadium
TRANSP:OPAQUE
SEQUENCE:0
UID:60431776658505
DTSTAMP:20260420T041505Z
DESCRIPTION:Inland Empire FC NN vs Sin City FC NN
SUMMARY:Inland Empire FC NN vs Sin City FC NN
PRIORITY:5
STATUS:CONFIRMED
CREATED:20260420T041505Z
CLASS:PUBLIC
END:VEVENT
BEGIN:VEVENT
DTSTART;TZID=America/New_York:20260418T190000
DTEND;TZID=America/New_York:20260418T210000
LOCATION:Mater Academy East High School Stadium
TRANSP:OPAQUE
SEQUENCE:0
UID:60461776658505
DTSTAMP:20260420T041505Z
DESCRIPTION:Sin City FC NN vs Royal Society FC
SUMMARY:Sin City FC NN vs Royal Society FC
PRIORITY:5
STATUS:CONFIRMED
CREATED:20260420T041505Z
CLASS:PUBLIC
END:VEVENT
BEGIN:VEVENT
DTSTART;TZID=America/New_York:20260425T190000
DTEND;TZID=America/New_York:20260425T210000
LOCATION:Mater Academy East High School Stadium
TRANSP:OPAQUE
SEQUENCE:0
UID:60491776658505
DTSTAMP:20260420T041505Z
DESCRIPTION:Sin City FC NN vs LA Force
SUMMARY:Sin City FC NN vs LA Force
PRIORITY:5
STATUS:CONFIRMED
CREATED:20260420T041505Z
CLASS:PUBLIC
END:VEVENT
BEGIN:VEVENT
DTSTART;TZID=America/New_York:20260502T190000
DTEND;TZID=America/New_York:20260502T210000
LOCATION:Mater Academy East High School Stadium
TRANSP:OPAQUE
SEQUENCE:0
UID:60531776658505
DTSTAMP:20260420T041505Z
DESCRIPTION:Sin City FC NN vs Inland Empire FC NN
SUMMARY:Sin City FC NN vs Inland Empire FC NN
PRIORITY:5
STATUS:CONFIRMED
CREATED:20260420T041505Z
CLASS:PUBLIC
END:VEVENT
BEGIN:VEVENT
DTSTART;TZID=America/New_York:20260516T200000
DTEND;TZID=America/New_York:20260516T220000
LOCATION:JSerra Catholic High School Stadium
TRANSP:OPAQUE
SEQUENCE:0
UID:60571776658505
DTSTAMP:20260420T041505Z
DESCRIPTION:Capo FC NN vs Sin City FC NN
SUMMARY:Capo FC NN vs Sin City FC NN
PRIORITY:5
STATUS:CONFIRMED
CREATED:20260420T041505Z
CLASS:PUBLIC
END:VEVENT
BEGIN:VEVENT
DTSTART;TZID=America/New_York:20260530T183000
DTEND;TZID=America/New_York:20260530T203000
LOCATION:Biola University Al Barbour Stadium
TRANSP:OPAQUE
SEQUENCE:0
UID:60611776658505
DTSTAMP:20260420T041505Z
DESCRIPTION:Royal Society FC vs Sin City FC NN
SUMMARY:Royal Society FC vs Sin City FC NN
PRIORITY:5
STATUS:CONFIRMED
CREATED:20260420T041505Z
CLASS:PUBLIC
END:VEVENT
BEGIN:VEVENT
DTSTART;TZID=America/New_York:20260531T150000
DTEND;TZID=America/New_York:20260531T170000
LOCATION:Biola University Al Barbour Stadium
TRANSP:OPAQUE
SEQUENCE:0
UID:60631776658505
DTSTAMP:20260420T041505Z
DESCRIPTION:Problems FC vs Sin City FC NN
SUMMARY:Problems FC vs Sin City FC NN
PRIORITY:5
STATUS:CONFIRMED
CREATED:20260420T041505Z
CLASS:PUBLIC
END:VEVENT
BEGIN:VEVENT
DTSTART;TZID=America/New_York:20260606T190000
DTEND;TZID=America/New_York:20260606T210000
LOCATION:Mater Academy East High School Stadium
TRANSP:OPAQUE
SEQUENCE:0
UID:60641776658505
DTSTAMP:20260420T041505Z
DESCRIPTION:Sin City FC NN vs Capo FC NN
SUMMARY:Sin City FC NN vs Capo FC NN
PRIORITY:5
STATUS:CONFIRMED
CREATED:20260420T041505Z
CLASS:PUBLIC
END:VEVENT
END:VCALENDAR