BEGIN:VCALENDAR
METHOD:PUBLISH
PRODID:-//Capo FC NN Calendar//Capo FC NN 2026//EN
VERSION:2.0
CALSCALE:GREGORIAN
X-WR-CALNAME:Capo FC NN 2026
X-WR-TIMEZONE:America/Miami
X-WR-CALDESC:Capo FC NN 2026 Schedule
BEGIN:VTIMEZONE
TZID:America/New_York
X-LIC-LOCATION:America/New_York
BEGIN:DAYLIGHT
TZOFFSETFROM:-0500
TZOFFSETTO:-0400
TZNAME:EDT
DTSTART:19700308T020000
RRULE:FREQ=YEARLY;BYMONTH=3;BYDAY=2SU
END:DAYLIGHT
BEGIN:STANDARD
TZOFFSETFROM:-0400
TZOFFSETTO:-0500
TZNAME:EST
DTSTART:19701101T020000
RRULE:FREQ=YEARLY;BYMONTH=11;BYDAY=1SU
END:STANDARD
END:VTIMEZONE
BEGIN:VEVENT
DTSTART;TZID=America/New_York:20260322T180000
DTEND;TZID=America/New_York:20260322T200000
LOCATION:Arroyo Valley High School Stadium
TRANSP:OPAQUE
SEQUENCE:0
UID:60411776658689
DTSTAMP:20260420T041809Z
DESCRIPTION:Inland Empire FC NN vs Capo FC NN
SUMMARY:Inland Empire FC NN vs Capo FC NN
PRIORITY:5
STATUS:CONFIRMED
CREATED:20260420T041809Z
CLASS:PUBLIC
END:VEVENT
BEGIN:VEVENT
DTSTART;TZID=America/New_York:20260329T190000
DTEND;TZID=America/New_York:20260329T210000
LOCATION:Long Beach City College Soccer Field 1
TRANSP:OPAQUE
SEQUENCE:0
UID:60441776658689
DTSTAMP:20260420T041809Z
DESCRIPTION:Problems FC vs Capo FC NN
SUMMARY:Problems FC vs Capo FC NN
PRIORITY:5
STATUS:CONFIRMED
CREATED:20260420T041809Z
CLASS:PUBLIC
END:VEVENT
BEGIN:VEVENT
DTSTART;TZID=America/New_York:20260411T200000
DTEND;TZID=America/New_York:20260411T220000
LOCATION:JSerra Catholic High School Stadium
TRANSP:OPAQUE
SEQUENCE:0
UID:60451776658689
DTSTAMP:20260420T041809Z
DESCRIPTION:Capo FC NN vs LA Force
SUMMARY:Capo FC NN vs LA Force
PRIORITY:5
STATUS:CONFIRMED
CREATED:20260420T041809Z
CLASS:PUBLIC
END:VEVENT
BEGIN:VEVENT
DTSTART;TZID=America/New_York:20260418T190000
DTEND;TZID=America/New_York:20260418T210000
LOCATION:JSerra Catholic High School Stadium
TRANSP:OPAQUE
SEQUENCE:0
UID:60481776658689
DTSTAMP:20260420T041809Z
DESCRIPTION:Capo FC NN vs Inland Empire FC NN
SUMMARY:Capo FC NN vs Inland Empire FC NN
PRIORITY:5
STATUS:CONFIRMED
CREATED:20260420T041809Z
CLASS:PUBLIC
END:VEVENT
BEGIN:VEVENT
DTSTART;TZID=America/New_York:20260425T200000
DTEND;TZID=America/New_York:20260425T220000
LOCATION:JSerra Catholic High School Stadium
TRANSP:OPAQUE
SEQUENCE:0
UID:60501776658689
DTSTAMP:20260420T041809Z
DESCRIPTION:Capo FC NN vs Problems FC
SUMMARY:Capo FC NN vs Problems FC
PRIORITY:5
STATUS:CONFIRMED
CREATED:20260420T041809Z
CLASS:PUBLIC
END:VEVENT
BEGIN:VEVENT
DTSTART;TZID=America/New_York:20260502T190000
DTEND;TZID=America/New_York:20260502T210000
LOCATION:Vista Hermosa Sports Park Field 6
TRANSP:OPAQUE
SEQUENCE:0
UID:60521776658689
DTSTAMP:20260420T041809Z
DESCRIPTION:Capo FC NN vs Royal Society FC
SUMMARY:Capo FC NN vs Royal Society FC
PRIORITY:5
STATUS:CONFIRMED
CREATED:20260420T041809Z
CLASS:PUBLIC
END:VEVENT
BEGIN:VEVENT
DTSTART;TZID=America/New_York:20260516T200000
DTEND;TZID=America/New_York:20260516T220000
LOCATION:JSerra Catholic High School Stadium
TRANSP:OPAQUE
SEQUENCE:0
UID:60571776658689
DTSTAMP:20260420T041809Z
DESCRIPTION:Capo FC NN vs Sin City FC NN
SUMMARY:Capo FC NN vs Sin City FC NN
PRIORITY:5
STATUS:CONFIRMED
CREATED:20260420T041809Z
CLASS:PUBLIC
END:VEVENT
BEGIN:VEVENT
DTSTART;TZID=America/New_York:20260530T190000
DTEND;TZID=America/New_York:20260530T210000
LOCATION:St. Anthony High School Stadium
TRANSP:OPAQUE
SEQUENCE:0
UID:60621776658689
DTSTAMP:20260420T041809Z
DESCRIPTION:LA Force vs Capo FC NN
SUMMARY:LA Force vs Capo FC NN
PRIORITY:5
STATUS:CONFIRMED
CREATED:20260420T041809Z
CLASS:PUBLIC
END:VEVENT
BEGIN:VEVENT
DTSTART;TZID=America/New_York:20260606T190000
DTEND;TZID=America/New_York:20260606T210000
LOCATION:Mater Academy East High School Stadium
TRANSP:OPAQUE
SEQUENCE:0
UID:60641776658689
DTSTAMP:20260420T041809Z
DESCRIPTION:Sin City FC NN vs Capo FC NN
SUMMARY:Sin City FC NN vs Capo FC NN
PRIORITY:5
STATUS:CONFIRMED
CREATED:20260420T041809Z
CLASS:PUBLIC
END:VEVENT
BEGIN:VEVENT
DTSTART;TZID=America/New_York:20260613T190000
DTEND;TZID=America/New_York:20260613T210000
LOCATION:TBD
TRANSP:OPAQUE
SEQUENCE:0
UID:60671776658689
DTSTAMP:20260420T041809Z
DESCRIPTION:Royal Society FC vs Capo FC NN
SUMMARY:Royal Society FC vs Capo FC NN (Time may change)
PRIORITY:5
STATUS:CONFIRMED
CREATED:20260420T041809Z
CLASS:PUBLIC
END:VEVENT
END:VCALENDAR